BEGIN:VCALENDAR
VERSION:2.0
PRODID:-//http://www.troop11stamford.org//NONSGML kigkonsult.se iCalcreator 2.41.71//
CALSCALE:GREGORIAN
METHOD:PUBLISH
UID:31333261-3235-4137-b233-386239383231
X-WR-CALNAME:JCal Pro Calendar
X-WR-CALDESC:Your online events calendar
X-WR-TIMEZONE:America/New_York
BEGIN:VTIMEZONE
TZID:America/New_York
TZUNTIL:20271107T060000Z
BEGIN:STANDARD
TZNAME:EST
DTSTART:20251102T020000
TZOFFSETFROM:-0400
TZOFFSETTO:-0500
RDATE:20261101T020000
END:STANDARD
BEGIN:DAYLIGHT
TZNAME:EDT
DTSTART:20260308T020000
TZOFFSETFROM:-0500
TZOFFSETTO:-0400
RDATE:20270314T020000
END:DAYLIGHT
END:VTIMEZONE
BEGIN:VEVENT
UID:20230226T100000EST-50497Piva5@https://troop11stamford.org/
DTSTAMP:20260422T111723Z
CATEGORIES:Service Opportunity
DESCRIPTION:<p style='text-align: center\;'>Troop 11 demonstrates the Colon
 ial Method of making maple syrup.</p>\n<p style='text-align: center\;'><st
 rong>Where</strong>: Stamford Museum &amp\; Nature Center</p>\n<p style='t
 ext-align: center\;'><strong>Time</strong>: from 10:00 to 2:00</p>\n<p sty
 le='text-align: center\;'>Sign up: https://www.signupgenius.com/go/30E054B
 AFAA28A75-smnc</p>
DTSTART;TZID=America/New_York:20230226T100000
DTEND;TZID=America/New_York:20230226T140000
SUMMARY:Maple Sugar Festival
URL:http://www.troop11stamford.org/index.php/troop-calendar/16-service-oppo
 rtunity/211-maple-sugar-weekend
X-ALT-DESC;FMTTYPE=TEXT/HTML:<p style='text-align: center\;'>Troop 11 demon
 strates the Colonial Method of making maple syrup.</p>\n<p style='text-ali
 gn: center\;'><strong>Where</strong>: Stamford Museum &amp\; Nature Center
 </p>\n<p style='text-align: center\;'><strong>Time</strong>: from 10:00 to
  2:00</p>\n<p style='text-align: center\;'>Sign up: https://www.signupgeni
 us.com/go/30E054BAFAA28A75-smnc</p>
END:VEVENT
END:VCALENDAR
