BEGIN:VCALENDAR
VERSION:2.0
PRODID:-//http://www.troop11stamford.org//NONSGML kigkonsult.se iCalcreator 2.41.71//
CALSCALE:GREGORIAN
METHOD:PUBLISH
UID:64653034-3238-4364-b931-363965306165
X-WR-CALNAME:JCal Pro Calendar
X-WR-CALDESC:Your online events calendar
X-WR-TIMEZONE:America/New_York
BEGIN:VTIMEZONE
TZID:America/New_York
TZUNTIL:20271107T060000Z
BEGIN:STANDARD
TZNAME:EST
DTSTART:20251102T020000
TZOFFSETFROM:-0400
TZOFFSETTO:-0500
RDATE:20261101T020000
END:STANDARD
BEGIN:DAYLIGHT
TZNAME:EDT
DTSTART:20260308T020000
TZOFFSETFROM:-0500
TZOFFSETTO:-0400
RDATE:20270314T020000
END:DAYLIGHT
END:VTIMEZONE
BEGIN:VEVENT
UID:20220513T180000EDT-0977WSjuG7@https://troop11stamford.org/
DTSTAMP:20260425T134049Z
CATEGORIES:Outings
DTSTART;TZID=America/New_York:20220513T000000
DTEND;TZID=America/New_York:20220513T235959
RRULE:FREQ=DAILY;COUNT=3;INTERVAL=1
SUMMARY:ConnJam
URL:http://www.troop11stamford.org/index.php/troop-calendar/13-outings/96-c
 onnjam
END:VEVENT
END:VCALENDAR
