BEGIN:VCALENDAR
VERSION:2.0
PRODID:-//http://www.troop11stamford.org//NONSGML kigkonsult.se iCalcreator 2.41.71//
CALSCALE:GREGORIAN
METHOD:PUBLISH
UID:38613165-3634-4961-b737-306264656432
X-WR-CALNAME:JCal Pro Calendar
X-WR-CALDESC:Your online events calendar
X-WR-TIMEZONE:America/New_York
BEGIN:VTIMEZONE
TZID:America/New_York
TZUNTIL:20271107T060000Z
BEGIN:STANDARD
TZNAME:EST
DTSTART:20251102T020000
TZOFFSETFROM:-0400
TZOFFSETTO:-0500
RDATE:20261101T020000
END:STANDARD
BEGIN:DAYLIGHT
TZNAME:EDT
DTSTART:20260308T020000
TZOFFSETFROM:-0500
TZOFFSETTO:-0400
RDATE:20270314T020000
END:DAYLIGHT
END:VTIMEZONE
BEGIN:VEVENT
UID:20221108T120000EST-28431UEVNu@http://www.troop11stamford.org/
DTSTAMP:20260419T133812Z
CATEGORIES:Holidays
DTSTART;TZID=America/New_York:20221108T000000
DTEND;TZID=America/New_York:20221108T235959
SUMMARY:Election Day - No School
URL:http://www.troop11stamford.org/index.php/troop-calendar/14-holidays/151
 -election-day-no-school
END:VEVENT
END:VCALENDAR
