BEGIN:VCALENDAR
VERSION:2.0
PRODID:-//http://www.troop11stamford.org//NONSGML kigkonsult.se iCalcreator 2.41.71//
CALSCALE:GREGORIAN
METHOD:PUBLISH
UID:66306663-3764-4737-a130-323866666464
X-WR-CALNAME:JCal Pro Calendar
X-WR-CALDESC:Your online events calendar
X-WR-TIMEZONE:America/New_York
BEGIN:VTIMEZONE
TZID:America/New_York
TZUNTIL:20271107T060000Z
BEGIN:STANDARD
TZNAME:EST
DTSTART:20251102T020000
TZOFFSETFROM:-0400
TZOFFSETTO:-0500
RDATE:20261101T020000
END:STANDARD
BEGIN:DAYLIGHT
TZNAME:EDT
DTSTART:20260308T020000
TZOFFSETFROM:-0500
TZOFFSETTO:-0400
RDATE:20270314T020000
END:DAYLIGHT
END:VTIMEZONE
BEGIN:VEVENT
UID:20220410T100000EDT-3280jfxVGu@https://troop11stamford.org/
DTSTAMP:20260424T091739Z
CATEGORIES:Outings
DTSTART;TZID=America/New_York:20220410T100000
DTEND;TZID=America/New_York:20220416T235000
SUMMARY:Sea Base Trip - FL
URL:http://www.troop11stamford.org/index.php/troop-calendar/13-outings/95-s
 ea-base-trip-fl
END:VEVENT
BEGIN:VEVENT
UID:20220410T160000EDT-7845nUrvS6@https://troop11stamford.org/
DTSTAMP:20260424T091739Z
CATEGORIES:Holidays
DTSTART;TZID=America/New_York:20220410T000000
DTEND;TZID=America/New_York:20220410T235959
SUMMARY:Palm Sunday
URL:http://www.troop11stamford.org/index.php/troop-calendar/14-holidays/89-
 palm-sunday
END:VEVENT
BEGIN:VEVENT
UID:20220411T160000EDT-0913fVoXbz@https://troop11stamford.org/
DTSTAMP:20260424T091739Z
CATEGORIES:Holidays
DTSTART;TZID=America/New_York:20220411T070000
DTEND;TZID=America/New_York:20220415T174300
SUMMARY:Spring Break
URL:http://www.troop11stamford.org/index.php/troop-calendar/14-holidays/94-
 spring-break-no-school
END:VEVENT
END:VCALENDAR
