BEGIN:VCALENDAR
VERSION:2.0
PRODID:-//http://www.troop11stamford.org//NONSGML kigkonsult.se iCalcreator 2.41.71//
CALSCALE:GREGORIAN
METHOD:PUBLISH
UID:34346333-3164-4264-b138-336334393763
X-WR-CALNAME:JCal Pro Calendar
X-WR-CALDESC:Your online events calendar
X-WR-TIMEZONE:America/New_York
BEGIN:VTIMEZONE
TZID:America/New_York
TZUNTIL:20271107T060000Z
BEGIN:STANDARD
TZNAME:EST
DTSTART:20251102T020000
TZOFFSETFROM:-0400
TZOFFSETTO:-0500
RDATE:20261101T020000
END:STANDARD
BEGIN:DAYLIGHT
TZNAME:EDT
DTSTART:20260308T020000
TZOFFSETFROM:-0500
TZOFFSETTO:-0400
RDATE:20270314T020000
END:DAYLIGHT
END:VTIMEZONE
BEGIN:VEVENT
UID:20220502T190000EDT-3820ngCS3k@https://troop11stamford.org/
DTSTAMP:20260421T000054Z
CATEGORIES:Meetings
DTSTART;TZID=America/New_York:20220502T190000
DTEND;TZID=America/New_York:20220502T203000
SUMMARY:Troop Meeting
URL:http://www.troop11stamford.org/index.php/troop-calendar/12-meetings/102
 -troop-meeting
END:VEVENT
END:VCALENDAR
