BEGIN:VCALENDAR
VERSION:2.0
PRODID:-//http://www.troop11stamford.org//NONSGML kigkonsult.se iCalcreator 2.41.71//
CALSCALE:GREGORIAN
METHOD:PUBLISH
UID:32646637-6333-4136-b965-393764343061
X-WR-CALNAME:JCal Pro Calendar
X-WR-CALDESC:Your online events calendar
X-WR-TIMEZONE:America/New_York
BEGIN:VTIMEZONE
TZID:America/New_York
TZUNTIL:20271107T060000Z
BEGIN:STANDARD
TZNAME:EST
DTSTART:20251102T020000
TZOFFSETFROM:-0400
TZOFFSETTO:-0500
RDATE:20261101T020000
END:STANDARD
BEGIN:DAYLIGHT
TZNAME:EDT
DTSTART:20260308T020000
TZOFFSETFROM:-0500
TZOFFSETTO:-0400
RDATE:20270314T020000
END:DAYLIGHT
END:VTIMEZONE
BEGIN:VEVENT
UID:20220508T160000EDT-2191ThepMw@https://troop11stamford.org/
DTSTAMP:20260421T013531Z
CATEGORIES:Holidays
DTSTART;TZID=America/New_York:20220530T000000
DTEND;TZID=America/New_York:20220530T235959
SUMMARY:Memorial Day
URL:http://www.troop11stamford.org/index.php/troop-calendar/14-holidays/100
 -memorial-day
END:VEVENT
BEGIN:VEVENT
UID:20220603T160000EDT-7622uH8vD9@http://www.troop11stamford.org/
DTSTAMP:20260421T013531Z
CATEGORIES:Outings
DTSTART;TZID=America/New_York:20220603T160000
DTEND;TZID=America/New_York:20220605T170000
SUMMARY:Block Island Trip
URL:http://www.troop11stamford.org/index.php/troop-calendar/13-outings/106-
 block-island-trip
END:VEVENT
END:VCALENDAR
